Workbook

Sheet ClassList
A1: Saxon Dressage Group Show Indoors
A2: Sunday, September 27, 2026 - Sunday, September 27, 2026
A3: Class 3 | B3: 3 Introductory Test 1 (2024)
A4: 10 | B4: Senior | C4: 14 | D4: Clancy | E4: Sharon Blake | F4: ROR
A5: 9.55 | B5: Senior | C5: 32 | D5: Norris | E5: Danielle Tudor | F5: Veteran entry
A6: Class 6 | B6: 6 Music Freestyle PYO Short Arena
A7: 10.07 | B7: N/A | C7: 3 | D7: GUINNESS | E7: Helen Monteith
A8: 10.14 | B8: Senior | C8: 14 | D8: Clancy | E8: Sharon Blake | F8: ROR
A9: Class 1 LR | B9: 1 LR Walk & Trot Saxon Walk & Trot Test
A10: Time | B10: Section | C10: Bridle No | D10: Horse | E10: Rider | F10: Class Notes
A11: 10.21 | B11: Junior | C11: 12 | D11: Ashurst Moonshine 2nd | E11: Aelfwynn Annabel
A12: Class 3 | B12: 3 Introductory Test 1 (2024)
A13: Time | B13: Section | C13: Bridle No | D13: Horse | E13: Rider | F13: Class Notes
A14: 10.28 | B14: Senior | C14: 20 | D14: Angel of mine | E14: Abbey Houkes
A15: 10.35 | B15: Senior | C15: 18 | D15: Off The Planet | E15: Lucy Palmer
A16: 10.42 | B16: Senior | C16: 11 | D16: Dashd Blue Steele | E16: Kamala Davies
A17: 10.49 | B17: Senior | C17: 5 | D17: Bentley | E17: Debbie Coutts
A18: Class 4 | B18: 4 Preliminary Test 1 (2024)
A19: Time | B19: Section | C19: Bridle No | D19: Horse | E19: Rider | F19: Class Notes
A20: 10.54 | B20: Senior | C20: 19 | D20: Southway vision in gold | E20: Lucy Sentance
A21: 11.01 | B21: Senior | C21: 2 | D21: Ubetterbegood | E21: Karen Wade | F21: RoR. Vet
A22: 11.08 | B22: Senior | C22: 23 | D22: Walter | E22: Lynda Harvey
A23: 11.15 | B23: Senior | C23: 21 | D23: Tatti | E23: Hannah Barnes
A24: 11.22 | B24: Senior | C24: 20 | D24: Angel of mine | E24: Abbey Houkes
A25: 11.29 | B25: Senior | C25: 18 | D25: Off The Planet | E25: Lucy Palmer
A26: 11.36 | B26: Senior | C26: 11 | D26: Dashd Blue Steele | E26: Kamala Davies
A27: 11.42 | B27: Senior | C27: 9 | D27: Dianneke | E27: Karen Curtis | F27: Veteran
A28: 11.49 | B28: Senior | C28: 24 | D28: Westerberry | E28: Daisy Thurman | F28: RoR.
A29: 11.56 | B29: Senior | C29: 33 | D29: Corclough Jessica | E29: Helen Roe
A30: Class 5 | B30: 5 Novice Test 1 (2024)
A31: Time | B31: Section | C31: Bridle No | D31: Horse | E31: Rider | F31: Class Notes
A32: 12.03 | B32: Open | C32: 7 | D32: Blueberry Pie | E32: Rebecca Jones | F32: Veteran
A33: 12.01 | B33: Open | C33: 13 | D33: Walter | E33: Teresa Vaughan
A34: 12.17 | B34: Open | C34: 9 | D34: Dianneke | E34: Karen Curtis | F34: Veteran entry
A35: 12.24 | B35: Open | C35: 24 | D35: Westerberry | E35: Daisy Thurman | F35: ROR
A36: 12.31 | B36: Open | C36: 4 | D36: Alland Dino | E36: Amy Edwards
A37: Class 4 | B37: 4 Preliminary Test 1 (2024)
A38: 12.38 | B38: Junior | C38: 8 | D38: The Rocke | E38: Gabby Radnidge | F38: Veteran
A39: Change to long arena
A40: Class 10 | B40: 10 Medium Test 6 (2024)
A41: Time | B41: Section | C41: Bridle No | D41: Horse | E41: Rider | F41: Class Notes
A42: 1 | B42: N/A | C42: 6 | D42: General Montgomery | E42: Arabella Mayo | F42: RoR and Veteran
A43: Time | B43: Section prelim 4 | C43: Bridle No | D43: Horse | E43: Rider | F43: Class Notes
A44: 1.07 | B44: Senior | C44: 16 | D44: Top Secret ROR | E44: Janet Robinson | F44: ROR
A45: Class 11 | B45: 11 Advanced Medium Test 6 (2024)
A46: Time | B46: Section | C46: Bridle No | D46: Horse | E46: Rider | F46: Class Notes
A47: 1.14 | B47: N/A | C47: 6 | D47: General Montgomery | E47: Arabella Mayo | F47: RoR and Veteran
A48: Time | B48: Section novice 4 | C48: Bridle No | D48: Horse | E48: Rider | F48: Class Notes
A49: 1.21 | B49: Senior | C49: 16 | D49: Top Secret ROR | E49: Janet Robinson | F49: ROR
A50: Time | B50: Section Elem 4 | C50: Bridle No | D50: Horse | E50: Rider | F50: Class Notes
A51: 1.28 | B51: N/A | C51: 22 | D51: Berkeley | E51: Leah Dickinson
A52: Class 12 | B52: 12 Music Freestyle PYO Long Arena
A53: Time | B53: Section | C53: Bridle No | D53: Horse | E53: Rider | F53: Class Notes
A54: 1.38 | B54: N/A | C54: 17 | D54: Mr Jack | E54: Julie Davis | F54: VETERAN ELEMENTARY FSTM
A55: 1.48 | B55: N/A | C55: 10 | D55: Ask Politely
A56: 1.59 | B56: N/A | C56: 30 | D56: Gontdevon ( titch ) | E56: Rachel Bunting | F56: Novice

Sheet Scoresheet by Times
A1: Saxon Dresage Goup show Indoors
A2: Sunday 27th September 2026
A4: Time | B4: Class | C4: Status | D4: Number | E4: Rider | F4: Horse | G4: Class Notes | H4: % score | I4: Place
A5: 0.41666667 | B5: 3 | C5: Senior | D5: 14 | E5: Sharon Blake | F5: Clancy | G5: ROR
A6: 0.41319444 | B6: 3 | C6: Senior | D6: 32 | F6: Norris
A8: 0.42152778 | B8: 6 | C8: N/A | D8: 3 | E8: Helen Monteith | F8: Guinness
A9: 0.42638889 | B9: 6 | C9: Senior | D9: 14 | E9: Sharon Blake | F9: Clancy | G9: ROR
A11: 0.43125 | B11: 1 | C11: Junior | D11: 12 | E11: Aelfwyn Annabel | F11: Ashhurst Moonshine 2nd
A13: 0.43611111 | B13: 3 | C13: Senior | D13: 20 | E13: Abbey Houkes | F13: Angel of Mine
A14: 0.44097222 | B14: 3 | C14: Senior | D14: 18 | E14: Lucy Palmer | F14: Off The Planet
A15: 0.44583333 | B15: 3 | C15: Senior | D15: 11 | E15: Kamala Davies | F15: Dashed Blue Steel
A16: 0.45069444 | B16: 3 | C16: Senior | D16: 5 | E16: Debbie Coutts | F16: Bentley
A18: 0.45416667 | B18: 4 | C18: Senior | D18: 19 | E18: Lucy Sentance | F18: Southway Vision in Gold
A19: 0.45902778 | B19: 4 | C19: Senior | D19: 2 | E19: Karen Wade | F19: Ubetterbgood | G19: ROR Vet
A20: 0.46388889 | B20: 4 | C20: Senior | D20: 23 | E20: Lynda Harvey | F20: Walter
A21: 0.46875 | B21: 4 | C21: Senior | D21: 21 | E21: Hannah Barnes | F21: Tatti
A22: 0.47361111 | B22: 4 | C22: Senior | D22: 20 | E22: Abbey Houkes | F22: Angel Of Mine
A23: 0.47847222 | B23: 4 | C23: Senior | D23: 18 | E23: Lucy Palmer | F23: Off The Planet
A24: 0.48333333 | B24: 4 | C24: Senior | D24: 11 | E24: Kamala Davies | F24: Dashed Blue Steel
A25: 0.4875 | B25: 4 | C25: Senior | D25: 9 | E25: Karen Curis | F25: Dianneke | G25: VET
A26: 0.49236111 | B26: 4 | C26: Senior | D26: 24 | E26: Daisy Thurman | F26: Westerberry | G26: ROR Vet
A27: 0.49722222 | B27: 4 | C27: Senior | D27: 33 | E27: Helen Roe | F27: Corclough Jessica
A29: 0.49722222 | B29: 5 | C29: Open | D29: 7 | E29: Rebecca Jones | F29: Blueberry Pie | G29: Vet
A30: 0.50208333 | B30: 5 | C30: Open | D30: 13 | E30: Teresa Vaughn | F30: Walter
A31: 0.50763889 | B31: 5 | C31: Open | D31: 9 | E31: Karen Curtis | F31: Danneke | G31: Vet
A32: 0.5125 | B32: 5 | C32: Open | D32: 24 | E32: Daisy Thurman | F32: Westerberry | G32: ROR
A33: 0.51736111 | B33: 5 | C33: Open | D33: 4 | E33: Amy Edwards | F33: Alland Dino
A35: 0.52222222 | B35: 4 | C35: Junior | D35: 8 | E35: Gabby Radnidge | F35: The Rocke
A37: 0.54166667 | B37: 10 | C37: N/A | D37: 6 | E37: Arabella Mayo | F37: General Montgomery | G37: ROR. VET
A39: 0.54652778 | B39: 7 | C39: Senior | D39: 16 | E39: Janet Robinson | F39: Top Secret | G39: ROR
A41: 0.55138889 | B41: 11 | C41: N/A | D41: 6 | E41: Arabella Mayo | F41: General Montgomery | G41: ROR. VET
A43: 0.55625 | B43: 8 | C43: N/A | D43: 16 | E43: Janet Robinson | F43: Top Secret | G43: ROR
A45: 0.56597222 | B45: 9 | C45: N/A | D45: 22 | E45: Leah Dickinson | F45: Berkeley
A47: 0.56597222 | B47: 12 | C47: N/A | D47: 17 | E47: Julie Davis | F47: Mr Jack | G47: VET
A48: 0.57986111 | B48: 12 | C48: N/A | D48: 10 | E48: Carol Lovelock | F48: Ask Politely
A49: 0.58680556 | B49: 12 | C49: N/A | D49: 30 | E49: Rachel Bunting | F49: Gontdevon

Sheet Scoresheet By Class 
A1: Saxon Dresage Goup show Indoors
A2: Sunday 27th September 2026
A4: Time | B4: Class | C4: Status | D4: Number | E4: Rider | F4: Horse | G4: Test | H4: Class Notes | I4: % score | J4: Place
A5: 0.43125 | B5: 1 | C5: Junior | D5: 12 | E5: Aelfwyn Annabel | F5: Ashhurst Moonshine 2nd | G5: Saxon T | I5: =Sums!G40 -> 0.671875 | J5: 1
A7: 0.41666667 | B7: 3 | C7: Senior | D7: 14 | E7: Sharon Blake | F7: Clancy | G7: Intro 1 | H7: ROR | I7: Ret
A8: 0.43611111 | B8: 3 | C8: Senior | D8: 20 | E8: Abbey Houkes | F8: Angel of Mine | G8: Intro 1 | I8: =Sums!I40 -> 0.69545455 | J8: 1
A9: 0.44097222 | B9: 3 | C9: Senior | D9: 18 | E9: Lucy Palmer | F9: Off The Planet | G9: Intro 1 | I9: =Sums!K40 -> 0.67727273 | J9: 2
A10: 0.45069444 | B10: 3 | C10: Senior | D10: 5 | E10: Debbie Coutts | F10: Bentley | G10: Intro 1 | I10: 0.6455 | J10: 3
A11: 0.44583333 | B11: 3 | C11: Senior | D11: 11 | E11: Kamala Davies | F11: Dashed Blue Steel | G11: Intro 1 | I11: =Sums!O40 -> 0.6 | J11: 4
A13: 0.45416667 | B13: 4 | C13: Senior | D13: 19 | E13: Lucy Sentance | F13: Southway Vision in Gold | G13: Prelim 1 | I13: W/D
A14: 0.49236111 | B14: 4 | C14: Senior | D14: 24 | E14: Daisy Thurman | F14: Westerberry | G14: Prelim 1 | H14: ROR Vet | I14: W/D
A15: 0.46875 | B15: 4 | C15: Senior | D15: 21 | E15: Hannah Barnes | F15: Tatti | G15: Prelim 1 | I15: 0.73 | J15: 1
A16: 0.47361111 | B16: 4 | C16: Senior | D16: 20 | E16: Abbey Houkes | F16: Angel Of Mine | G16: Prelim 1 | I16: =Sums!W40 -> 0.686 | J16: 2
A17: 0.46388889 | B17: 4 | C17: Senior | D17: 23 | E17: Lynda Harvey | F17: Walter | G17: Prelim 1 | I17: =Sums!AA40 -> 0.684 | J17: 3
A18: 0.4875 | B18: 4 | C18: Senior | D18: 9 | E18: Karen Curis | F18: Dianneke | G18: Prelim 1 | H18: VET | I18: =Sums!Y40 -> 0.674 | J18: 4
A19: 0.47847222 | B19: 4 | C19: Senior | D19: 18 | E19: Lucy Palmer | F19: Off The Planet | G19: Prelim 1 | I19: =Sums!AC40 -> 0.656 | J19: 5
A20: 0.45902778 | B20: 4 | C20: Senior | D20: 2 | E20: Karen Wade | F20: Ubetterbgood | G20: Prelim 1 | H20: ROR Vet | I20: =Sums!Q40 -> 0.654 | J20: 6
A21: 0.49722222 | B21: 4 | C21: Senior | D21: 33 | E21: Helen Roe | F21: Corclough Jessica | G21: Prelim 1 | I21: =Sums!AE40 -> 0.648 | J21: 7
A22: 0.41319444 | B22: 3 | C22: Senior | D22: 32 | E22: Danielle Tudor | F22: Norris | G22: Prelim 1 | H22: Vet | I22: =Sums!C40 -> 0.634 | J22: 8
A23: 0.48333333 | B23: 4 | C23: Senior | D23: 11 | E23: Kamala Davies | F23: Dashed Blue Steel | G23: Prelim 1 | I23: =Sums!S40 -> 0.55 | J23: 9
A25: 0.52222222 | B25: 4 | C25: Junior | D25: 8 | E25: Gabby Radnidge | F25: The Rocke | G25: Prelim 1 | I25: =Sums!AI40 -> 0.6 | J25: 1
A27: 0.5125 | B27: 5 | C27: Open | D27: 24 | E27: Daisy Thurman | F27: Westerberry | G27: Novice 1 | H27: ROR | I27: W/D
A28: 0.50208333 | B28: 5 | C28: Open | D28: 13 | E28: Teresa Vaughn | F28: Walter | G28: Novice 1 | I28: =Sums!AM40 -> 0.68 | J28: 1
A29: 0.50763889 | B29: 5 | C29: Open | D29: 9 | E29: Karen Curtis | F29: Danneke | G29: Novice 1 | H29: Vet | I29: =Sums!AO40 -> 0.674 | J29: 2
A30: 0.49722222 | B30: 5 | C30: Open | D30: 7 | E30: Rebecca Jones | F30: Blueberry Pie | G30: Novice 1 | H30: Vet | I30: =Sums!AG40 -> 0.662 | J30: 3
A32: 0.51736111 | B32: 5 | C32: Junior | D32: 4 | E32: Amy Edwards | F32: Alland Dino | G32: Novice 1 | I32: =Sums!AK40 -> 0.638 | J32: 1
A34: 0.42152778 | B34: 6 | C34: N/A | D34: 3 | E34: Helen Monteith | F34: Guinness | G34: S/A Music | I34: =Sums!E40 -> 0.72777778 | J34: 1
A35: 0.42638889 | B35: 6 | C35: Senior | D35: 14 | E35: Sharon Blake | F35: Clancy | G35: S/A Music | H35: ROR | I35: Ret
A37: 0.54652778 | B37: 7 | C37: Senior | D37: 16 | E37: Janet Robinson | F37: Top Secret | G37: Prelim 4 | H37: ROR | I37: =Sums!AS40 -> 0.67 | J37: 1
A39: 0.55625 | B39: 8 | C39: N/A | D39: 16 | E39: Janet Robinson | F39: Top Secret | G39: Novice 4 | H39: ROR | J39: 1
A41: 0.56597222 | B41: 9 | C41: N/A | D41: 22 | E41: Leah Dickinson | F41: Berkeley | G41: Elementary 4 | I41: =Sums!AU40 -> 0.68666667 | J41: 1
A43: 0.54166667 | B43: 10 | C43: N/A | D43: 6 | E43: Arabella Mayo | F43: General Montgomery | G43: Medium 6 | H43: ROR. VET | I43: =Sums!AQ40 -> 0.66805556 | J43: 1
A45: 0.55138889 | B45: 11 | C45: N/A | D45: 6 | E45: Arabella Mayo | F45: General Montgomery | G45: Advanced Med 6 | H45: ROR. VET | I45: W/D
A47: 0.57986111 | B47: 12 | C47: N/A | D47: 10 | E47: Carol Lovelock | F47: Ask Politely | I47: =Sums!AY40 -> 0.68611111 | J47: 1
A48: 0.58680556 | B48: 12 | C48: N/A | D48: 30 | E48: Rachel Bunting | F48: Gontdevon | G48: Nov | I48: =Sums!BA40 -> 0.68333333 | J48: 2
A49: 0.56597222 | B49: 12 | C49: N/A | D49: 17 | E49: Julie Davis | F49: Mr Jack | G49: Ele | H49: VET | I49: =Sums!AW40 -> 0.66923077 | J49: 3

Sheet Sums
C1: Danielle | E1: Helen | G1: Aelfwynn | I1: Abbey | K1: Lucy | M1: Debbie | O1: Kamala | Q1: Karen | S1: Kamala | U1: Hannah | W1: Abbey | Y1: Karen | AA1: Lynda | AC1: Lucy | AE1: Helen | AG1: Rebecca | AI1: Gabby | AK1: Amy | AM1: Teresa | AO1: Karen | AQ1: Bella | AS1: Janet | AU1: Leah | AW1: Julie | AY1: Carol | BA1: Rachel
C2: 7 | E2: 7 | G2: 7 | I2: 6.5 | K2: 7 | M2: 8 | O2: 6.5 | Q2: 6.5 | S2: 6.5 | U2: 7.5 | W2: 7.5 | Y2: 5 | AA2: 7 | AC2: 6.5 | AE2: 7 | AG2: 6.5 | AI2: 6 | AK2: 6.5 | AM2: 7 | AO2: 7 | AQ2: 7 | AS2: 7 | AU2: 7 | AW2: 6.5 | AY2: 6.5 | BA2: 7
C3: 6.5 | E3: 7 | G3: 8 | I3: 7 | K3: 6.5 | M3: 6.5 | O3: 6 | Q3: 6.5 | S3: 6.5 | U3: 8 | W3: 7 | Y3: 7 | AA3: 7.5 | AC3: 6.5 | AE3: 6.5 | AG3: 6.5 | AI3: 6.5 | AK3: 6.5 | AM3: 7 | AO3: 6.5 | AQ3: 6.5 | AS3: 7.5 | AU3: 6.5 | AW3: 7 | AY3: 7.5 | BA3: 6.5
C4: 6.5 | E4: 7 | G4: 7 | I4: 6.5 | K4: 6.5 | M4: 7 | O4: 5 | Q4: 6.5 | S4: 6 | U4: 6.5 | W4: 7 | Y4: 7 | AA4: 7.5 | AC4: 8 | AE4: 7 | AG4: 6.5 | AI4: 6 | AK4: 6.5 | AM4: 7.5 | AO4: 8 | AQ4: 6.5 | AS4: 6.5 | AU4: 7 | AW4: 7 | AY4: 7.5 | BA4: 7.5
C5: 6 | E5: 6.5 | G5: 7 | I5: 7 | K5: 6.5 | M5: 6.5 | O5: 6.5 | Q5: 6.5 | S5: 6 | U5: 7.5 | W5: 7.5 | Y5: 6.5 | AA5: 7.5 | AC5: 6.5 | AE5: 7 | AG5: 6 | AI5: 6.5 | AK5: 6 | AM5: 6.5 | AO5: 7 | AQ5: 7 | AS5: 7 | AU5: 7 | AW5: 7 | AY5: 6.5 | BA5: 7
C6: 7 | E6: 6.5 | G6: 6 | I6: 6.5 | K6: 7 | M6: 5 | O6: 7 | Q6: 6.5 | S6: 7 | U6: 8 | W6: 6.5 | Y6: 7 | AA6: 8 | AC6: 7 | AE6: 6.5 | AG6: 6.5 | AI6: 6.5 | AK6: 6.5 | AM6: 7 | AO6: 7.5 | AQ6: 7 | AS6: 6.5 | AU6: 7 | AW6: 6.5 | AY6: 6 | BA6: 6.5
C7: 6.5 | E7: 5 | G7: 6.5 | I7: 8 | K7: 7.5 | M7: 7 | O7: 6.5 | Q7: 7 | S7: 6.5 | U7: 8 | W7: 8 | Y7: 6.5 | AA7: 8 | AC7: 7 | AE7: 7 | AG7: 6.5 | AI7: 7 | AK7: 6 | AM7: 7.5 | AO7: 7 | AQ7: 6.5 | AS7: 6.5 | AU7: 7.5 | AW7: 6.5 | AY7: 7.5 | BA7: 6.5
C8: 7 | E8: 7 | G8: 13 | I8: 7 | K8: 8 | M8: 5 | O8: 7 | Q8: 6.5 | S8: 4 | U8: 8.5 | W8: 7 | Y8: 6.5 | AA8: 6.5 | AC8: 6 | AE8: 6.5 | AG8: 6.5 | AI8: 6 | AK8: 7 | AM8: 6.5 | AO8: 7 | AQ8: 7 | AS8: 6.5 | AU8: 7 | AW8: 6 | AY8: 7.5 | BA8: 7
C9: 12 | E9: 7 | G9: 6.5 | I9: 14 | K9: 14 | M9: 13 | O9: 10 | Q9: 13 | S9: 12 | U9: 15 | W9: 15 | Y9: 14 | AA9: 12 | AC9: 14 | AE9: 13 | AG9: 6.5 | AI9: 12 | AK9: 6 | AM9: 7.5 | AO9: 7 | AQ9: 7 | AS9: 6.5 | AU9: 7.5 | AW9: 7 | AY9: 6.5 | BA9: 6.5
C10: 7 | E10: 6.5 | G10: 6.5 | I10: 7 | K10: 6.5 | M10: 7 | O10: 4 | Q10: 6.5 | S10: 6.5 | U10: 8 | W10: 7 | Y10: 6 | AA10: 6.5 | AC10: 6.5 | AE10: 6.5 | AG10: 6 | AI10: 6 | AK10: 7 | AM10: 7 | AO10: 7 | AQ10: 7 | AS10: 7.5 | AU10: 7 | AW10: 4 | AY10: 6 | BA10: 6.5
C11: 7 | E11: 7 | G11: 14 | I11: 7.5 | K11: 6.5 | M11: 7 | O11: 6.5 | Q11: 7 | S11: 7 | U11: 8 | W11: 7 | Y11: 7 | AA11: 7 | AC11: 7 | AE11: 5 | AG11: 6.5 | AI11: 7 | AK11: 6.5 | AM11: 7 | AO11: 7.5 | AQ11: 6.5 | AS11: 7 | AU11: 6 | AW11: 6.5 | AY11: 13 | BA11: 14
C12: 6.5 | E12: 13 | G12: 13 | I12: 7 | K12: 6.5 | M12: 6 | O12: 6.5 | Q12: 6.5 | S12: 6.5 | U12: 7 | W12: 6.5 | Y12: 7.5 | AA12: 7 | AC12: 7 | AE12: 6.5 | AG12: 7 | AI12: 6 | AK12: 5.5 | AM12: 7 | AO12: 7 | AQ12: 7 | AS12: 5 | AU12: 6.5 | AW12: 6.5 | AY12: 14 | BA12: 14
C13: 7 | E13: 14 | G13: 13 | I13: 7 | K13: 6.5 | M13: 5 | O13: 6 | Q13: 6.5 | S13: 6.5 | U13: 6 | W13: 6.5 | Y13: 6.5 | AA13: 6.5 | AC13: 6.5 | AE13: 6.5 | AG13: 7 | AI13: 5 | AK13: 6 | AM13: 7 | AO13: 6.5 | AQ13: 6.5 | AS13: 13 | AU13: 7.5 | AW13: 7 | AY13: 14 | BA13: 13
C14: 5 | E14: 15 | G14: =SUM(G2:G13) -> 107.5 | I14: 7 | K14: 7 | M14: 6 | O14: 6.5 | Q14: 6 | S14: 4 | U14: 7 | W14: 6.5 | Y14: 7 | AA14: 6.5 | AC14: 7 | AE14: 6.5 | AG14: 6 | AI14: 6 | AK14: 6 | AM14: 6.5 | AO14: 4 | AQ14: 12 | AS14: 7 | AU14: 6.5 | AW14: 7 | AY14: 21 | BA14: 21
C15: 6.5 | E15: 22.5 | I15: 14 | K15: 13 | M15: 13 | O15: 13 | Q15: 6 | S15: 4 | U15: 7 | W15: 6.5 | Y15: 6 | AA15: 7 | AC15: 4 | AE15: 6 | AG15: 7 | AI15: 6 | AK15: 6.5 | AM15: 7 | AO15: 7 | AQ15: 6 | AS15: 7 | AU15: 7 | AW15: 19.5 | AY15: =SUM(AY2:AY14) -> 123.5 | BA15: =SUM(BA2:BA14) -> 123
C16: 6 | E16: =SUM(E2:E15) -> 131 | I16: 13 | K16: 13 | M16: 13 | O16: 12 | Q16: 7 | S16: 6 | U16: 7 | W16: 6.5 | Y16: 7 | AA16: 6.5 | AC16: 7 | AE16: 6.5 | AG16: 14 | AI16: 6 | AK16: 13 | AM16: 12 | AO16: 13 | AQ16: 6.5 | AS16: 6.5 | AU16: 7 | AW16: 21
C17: 5 | I17: 14 | K17: 14 | M17: 14 | O17: 13 | Q17: 6.5 | S17: 4 | U17: 5.5 | W17: 6 | Y17: 7 | AA17: 6.5 | AC17: 6.5 | AE17: 6.5 | AG17: 7 | AI17: 4 | AK17: 6.5 | AM17: 7 | AO17: 7 | AQ17: 7 | AS17: 13 | AU17: 8 | AW17: 21
C18: 5 | I18: 14 | K18: 13 | M18: 13 | O18: 12 | Q18: 6.5 | S18: 4 | U18: 6.5 | W18: 6.5 | Y18: 7 | AA18: 6.5 | AC18: 7 | AE18: 6.5 | AG18: 7 | AI18: 6.5 | AK18: 4 | AM18: 6 | AO18: 5 | AQ18: 7 | AS18: 14 | AU18: 7.5 | AW18: 28
C19: 6.5 | I19: =SUM(I2:I18) -> 153 | K19: =SUM(K2:K18) -> 149 | M19: =SUM(M2:M18) -> 142 | O19: =SUM(O2:O18) -> 134 | Q19: 7 | S19: 4 | U19: 6.5 | W19: 6.5 | Y19: 7 | AA19: 7 | AC19: 6.5 | AE19: 7 | AG19: 6.5 | AI19: 6.5 | AK19: 7 | AM19: 7 | AO19: 7 | AQ19: 6.5 | AS19: =SUM(AS2:AS18) -> 134 | AU19: 6 | AW19: =SUM(AW2:AW18) -> 174
C20: 6.5 | Q20: 6.5 | S20: 6.5 | U20: 8 | W20: 7 | Y20: 7 | AA20: 7 | AC20: 7 | AE20: 6.5 | AG20: 7 | AI20: 6.5 | AK20: 7 | AM20: 7 | AO20: 7 | AQ20: 7 | AU20: 12
C21: 6 | Q21: 6.5 | S21: 6 | U21: 7 | W21: 6.5 | Y21: 7 | AA21: 6 | AC21: 6.5 | AE21: 6.5 | AG21: 6 | AI21: 6 | AK21: 6.5 | AM21: 6 | AO21: 6.5 | AQ21: 6.5 | AU21: 7
C22: 13 | Q22: 12 | S22: 12 | U22: 14 | W22: 13 | Y22: 13 | AA22: 13 | AC22: 12 | AE22: 12 | AG22: 13 | AI22: 12 | AK22: 13 | AM22: 13 | AO22: 13 | AQ22: 6.5 | AU22: 6.5
C23: 13 | O23: =134-2 -> 132 | Q23: 14 | S23: 12 | U23: 16 | W23: 14 | Y23: 14 | AA23: 14 | AC23: 14 | AE23: 13 | AG23: 14 | AI23: 12 | AK23: 14 | AM23: 14 | AO23: 14 | AQ23: 7 | AU23: 7
C24: =SUM(C2:C23) -> 158.5 | Q24: =SUM(Q2:Q23) -> 163.5 | S24: =SUM(S2:S23) -> 143.5 | U24: =SUM(U2:U23) -> 182.5 | W24: =SUM(W2:W23) -> 171.5 | Y24: =SUM(Y2:Y23) -> 168.5 | AA24: =SUM(AA2:AA23) -> 171 | AC24: =SUM(AC2:AC23) -> 166 | AE24: =SUM(AE2:AE23) -> 162 | AG24: =SUM(AG2:AG23) -> 165.5 | AI24: =SUM(AI2:AI23) -> 152 | AK24: =SUM(AK2:AK23) -> 159.5 | AM24: =SUM(AM2:AM23) -> 170 | AO24: =SUM(AO2:AO23) -> 168.5 | AQ24: 7 | AU24: 6.5
AQ25: 6.5 | AU25: 7
AQ26: 6.5 | AU26: 6.5
AQ27: 7 | AU27: 14
AI28: =152-2 -> 150 | AQ28: 6.5 | AU28: 14
S29: =143.5-6 -> 137.5 | AC29: =166-2 -> 164 | AQ29: 6.5 | AU29: =SUM(AU2:AU28) -> 206
AQ30: 6.5
AQ31: 7
AQ32: 6.5
AQ33: 13
AQ34: 14
AQ35: =SUM(AQ2:AQ34) -> 240.5
C40: =158.5/250 -> 0.634 | E40: =131/180 -> 0.72777778 | G40: =107.5/160 -> 0.671875 | I40: =153/220 -> 0.69545455 | K40: =149/220 -> 0.67727273 | M40: =142/220 -> 0.64545455 | O40: =132/220 -> 0.6 | Q40: =163.5/250 -> 0.654 | S40: =137.5/250 -> 0.55 | U40: =182.5/250 -> 0.73 | W40: =171.5/250 -> 0.686 | Y40: =168.5/250 -> 0.674 | AA40: =171/250 -> 0.684 | AC40: =164/250 -> 0.656 | AE40: =162/250 -> 0.648 | AG40: =165.5/250 -> 0.662 | AI40: =150/250 -> 0.6 | AK40: =159.5/250 -> 0.638 | AM40: =170/250 -> 0.68 | AO40: =168.5/250 -> 0.674 | AQ40: =240.5/360 -> 0.66805556 | AS40: =134/200 -> 0.67 | AU40: =206/300 -> 0.68666667 | AW40: =174/260 -> 0.66923077 | AY40: =123.5/180 -> 0.68611111 | BA40: =123/180 -> 0.68333333
